BEGIN:VCALENDAR
VERSION:2.0
PRODID:-//Åre Sweden - ECPv6.15.20//NONSGML v1.0//EN
CALSCALE:GREGORIAN
METHOD:PUBLISH
X-WR-CALNAME:Åre Sweden
X-ORIGINAL-URL:https://aresweden.com/en/
X-WR-CALDESC:Events for Åre Sweden
REFRESH-INTERVAL;VALUE=DURATION:PT1H
X-Robots-Tag:noindex
X-PUBLISHED-TTL:PT1H
BEGIN:VTIMEZONE
TZID:Europe/Stockholm
BEGIN:DAYLIGHT
TZOFFSETFROM:+0100
TZOFFSETTO:+0200
TZNAME:CEST
DTSTART:20250330T010000
END:DAYLIGHT
BEGIN:STANDARD
TZOFFSETFROM:+0200
TZOFFSETTO:+0100
TZNAME:CET
DTSTART:20251026T010000
END:STANDARD
BEGIN:DAYLIGHT
TZOFFSETFROM:+0100
TZOFFSETTO:+0200
TZNAME:CEST
DTSTART:20260329T010000
END:DAYLIGHT
BEGIN:STANDARD
TZOFFSETFROM:+0200
TZOFFSETTO:+0100
TZNAME:CET
DTSTART:20261025T010000
END:STANDARD
BEGIN:DAYLIGHT
TZOFFSETFROM:+0100
TZOFFSETTO:+0200
TZNAME:CEST
DTSTART:20270328T010000
END:DAYLIGHT
BEGIN:STANDARD
TZOFFSETFROM:+0200
TZOFFSETTO:+0100
TZNAME:CET
DTSTART:20271031T010000
END:STANDARD
END:VTIMEZONE
BEGIN:VEVENT
DTSTART;TZID=Europe/Stockholm:20260503T140000
DTEND;TZID=Europe/Stockholm:20260503T140000
DTSTAMP:20260423T215707
CREATED:20260421T123809Z
LAST-MODIFIED:20260422T113100Z
UID:10021520-1777816800-1777816800@aresweden.com
SUMMARY:After School Padel Monday–Friday
DESCRIPTION:For kids ages 8–16 \n\nMonday–Friday\, 14:00–17:00 until June 12\nSEK 25 per child\, per hour\nRackets and balls included (rental rackets and used balls only\, not new balls)\nCheck in and pay at the front desk at Åre Climbing Hall*\n\n  \nSubject to court availability. No advance booking. The price also applies to up to 2 parents when playing with their children. Not valid on weekends\, school breaks\, or public holidays.
URL:https://aresweden.com/en/kalender/after-school-padel-monday-friday/2026-05-03/
LOCATION:Åre Sportcenter\, Sågvägen 17a\, Duved\, Åre\, 830 15\, Sverige
CATEGORIES:Activities,Exercise & wellness
ATTACH;FMTTYPE=image/jpeg:https://aresweden.com/app/uploads/2021/11/1920x1080-Sportcenter.jpg
ORGANIZER;CN="%C3%85re Sportcenter":MAILTO:info@aresportcenter.se
END:VEVENT
END:VCALENDAR