BEGIN:VCALENDAR
VERSION:2.0
PRODID:-//Åre Sweden - ECPv6.15.20//NONSGML v1.0//EN
CALSCALE:GREGORIAN
METHOD:PUBLISH
X-WR-CALNAME:Åre Sweden
X-ORIGINAL-URL:https://aresweden.com/en/
X-WR-CALDESC:Events for Åre Sweden
REFRESH-INTERVAL;VALUE=DURATION:PT1H
X-Robots-Tag:noindex
X-PUBLISHED-TTL:PT1H
BEGIN:VTIMEZONE
TZID:Europe/Paris
BEGIN:DAYLIGHT
TZOFFSETFROM:+0100
TZOFFSETTO:+0200
TZNAME:CEST
DTSTART:20250330T010000
END:DAYLIGHT
BEGIN:STANDARD
TZOFFSETFROM:+0200
TZOFFSETTO:+0100
TZNAME:CET
DTSTART:20251026T010000
END:STANDARD
BEGIN:DAYLIGHT
TZOFFSETFROM:+0100
TZOFFSETTO:+0200
TZNAME:CEST
DTSTART:20260329T010000
END:DAYLIGHT
BEGIN:STANDARD
TZOFFSETFROM:+0200
TZOFFSETTO:+0100
TZNAME:CET
DTSTART:20261025T010000
END:STANDARD
BEGIN:DAYLIGHT
TZOFFSETFROM:+0100
TZOFFSETTO:+0200
TZNAME:CEST
DTSTART:20270328T010000
END:DAYLIGHT
BEGIN:STANDARD
TZOFFSETFROM:+0200
TZOFFSETTO:+0100
TZNAME:CET
DTSTART:20271031T010000
END:STANDARD
END:VTIMEZONE
BEGIN:VEVENT
DTSTART;TZID=Europe/Paris:20260627T060000
DTEND;TZID=Europe/Paris:20260627T140000
DTSTAMP:20260422T195107
CREATED:20251020T121759Z
LAST-MODIFIED:20251020T121833Z
UID:10019294-1782540000-1782568800@aresweden.com
SUMMARY:Fjällmaraton Gastronomy 2026
DESCRIPTION:Taste the mountains – in more ways than one! Fjällmaraton Gastronomy\, organised by Kia Fjällmaraton\, is for those who want to spend a day in the mountains enjoying delicious food and drinks served along the way. You can choose between 24 or 42 kilometres\, with an open start time – meaning you’ll have plenty of time to take in both the mountain scenery and the culinary delights!
URL:https://aresweden.com/en/kalender/fjallmaraton-gastronomi-2026/2026-06-27/
LOCATION:Ottsjö
CATEGORIES:Activities,Events
ATTACH;FMTTYPE=image/jpeg:https://aresweden.com/app/uploads/2024/05/FJM_Gastronomi_0168.jpg
ORGANIZER;CN="Fj%C3%A4llmaraton":MAILTO:info@fjallmaraton.se
END:VEVENT
END:VCALENDAR