BEGIN:VCALENDAR
VERSION:2.0
PRODID:-//Åre Sweden - ECPv6.15.20//NONSGML v1.0//EN
CALSCALE:GREGORIAN
METHOD:PUBLISH
X-WR-CALNAME:Åre Sweden
X-ORIGINAL-URL:https://aresweden.com/en/
X-WR-CALDESC:Events for Åre Sweden
REFRESH-INTERVAL;VALUE=DURATION:PT1H
X-Robots-Tag:noindex
X-PUBLISHED-TTL:PT1H
BEGIN:VTIMEZONE
TZID:Europe/Paris
BEGIN:DAYLIGHT
TZOFFSETFROM:+0100
TZOFFSETTO:+0200
TZNAME:CEST
DTSTART:20250330T010000
END:DAYLIGHT
BEGIN:STANDARD
TZOFFSETFROM:+0200
TZOFFSETTO:+0100
TZNAME:CET
DTSTART:20251026T010000
END:STANDARD
BEGIN:DAYLIGHT
TZOFFSETFROM:+0100
TZOFFSETTO:+0200
TZNAME:CEST
DTSTART:20260329T010000
END:DAYLIGHT
BEGIN:STANDARD
TZOFFSETFROM:+0200
TZOFFSETTO:+0100
TZNAME:CET
DTSTART:20261025T010000
END:STANDARD
BEGIN:DAYLIGHT
TZOFFSETFROM:+0100
TZOFFSETTO:+0200
TZNAME:CEST
DTSTART:20270328T010000
END:DAYLIGHT
BEGIN:STANDARD
TZOFFSETFROM:+0200
TZOFFSETTO:+0100
TZNAME:CET
DTSTART:20271031T010000
END:STANDARD
END:VTIMEZONE
BEGIN:VEVENT
DTSTART;TZID=Europe/Paris:20260725T080000
DTEND;TZID=Europe/Paris:20260725T170000
DTSTAMP:20260422T211432
CREATED:20251020T122337Z
LAST-MODIFIED:20251020T122419Z
UID:10019315-1784966400-1784998800@aresweden.com
SUMMARY:Kia Fjällmaraton 2026 - The Kia Mountain Marathon
DESCRIPTION:The classic Kia Fjällmaraton\, a full week of running joy and challenges in a magical mountain setting\, takes place from 25 July to 1 August 2026. Experience the festival atmosphere with over 3\,500 participants across 10 different races\, where you decide how much – or how little – you want to take on. For detailed schedules and information\, see the link below.
URL:https://aresweden.com/en/kalender/kia-fjallmaraton-2026/2026-07-25/
LOCATION:Fjällmaratonarenan
CATEGORIES:Events,Exercise & wellness
ATTACH;FMTTYPE=image/jpeg:https://aresweden.com/app/uploads/2022/06/fjallmaraton.jpg
ORGANIZER;CN="Fj%C3%A4llmaraton":MAILTO:info@fjallmaraton.se
END:VEVENT
END:VCALENDAR