BEGIN:VCALENDAR
VERSION:2.0
PRODID:-//Åre Sweden - ECPv6.15.20//NONSGML v1.0//EN
CALSCALE:GREGORIAN
METHOD:PUBLISH
X-WR-CALNAME:Åre Sweden
X-ORIGINAL-URL:https://aresweden.com/en/
X-WR-CALDESC:Events for Åre Sweden
REFRESH-INTERVAL;VALUE=DURATION:PT1H
X-Robots-Tag:noindex
X-PUBLISHED-TTL:PT1H
BEGIN:VTIMEZONE
TZID:Europe/Stockholm
BEGIN:DAYLIGHT
TZOFFSETFROM:+0100
TZOFFSETTO:+0200
TZNAME:CEST
DTSTART:20250330T010000
END:DAYLIGHT
BEGIN:STANDARD
TZOFFSETFROM:+0200
TZOFFSETTO:+0100
TZNAME:CET
DTSTART:20251026T010000
END:STANDARD
BEGIN:DAYLIGHT
TZOFFSETFROM:+0100
TZOFFSETTO:+0200
TZNAME:CEST
DTSTART:20260329T010000
END:DAYLIGHT
BEGIN:STANDARD
TZOFFSETFROM:+0200
TZOFFSETTO:+0100
TZNAME:CET
DTSTART:20261025T010000
END:STANDARD
BEGIN:DAYLIGHT
TZOFFSETFROM:+0100
TZOFFSETTO:+0200
TZNAME:CEST
DTSTART:20270328T010000
END:DAYLIGHT
BEGIN:STANDARD
TZOFFSETFROM:+0200
TZOFFSETTO:+0100
TZNAME:CET
DTSTART:20271031T010000
END:STANDARD
END:VTIMEZONE
BEGIN:VEVENT
DTSTART;TZID=Europe/Stockholm:20260425T080000
DTEND;TZID=Europe/Stockholm:20260425T100000
DTSTAMP:20260421T035418
CREATED:20260325T115435Z
LAST-MODIFIED:20260325T115600Z
UID:10021297-1777104000-1777111200@aresweden.com
SUMMARY:Yoga and breakfast at Åre Granen
DESCRIPTION:Time for another round of Breakfast & Yoga at Hotel Åre Granen\, right in the heart of Åre village 🌲 \nYoga 08:00–09:00Breakfast 09:00–10:00 \nEmelie guides you through a gentle 60-minute morning flow to wake up the body and tune into how you’re feeling—so you can move through the rest of the day with ease 💛 The session is followed by a delicious breakfast buffet in Granen’s cozy setting\, enjoyed at your own pace 🫶🏼
URL:https://aresweden.com/en/kalender/yoga-and-breakfast-at-are-granen/2026-04-25/
LOCATION:Hotell Granen\, Tottvägen 127\, Åre\, Jämtland\, 83751\, Sverige
CATEGORIES:Activities,Exercise & wellness
ATTACH;FMTTYPE=image/jpeg:https://aresweden.com/app/uploads/2026/03/yin-yoga-granen-e1773066675141.jpg
ORGANIZER;CN="Hotell Granen":MAILTO:info@aregranen.se
END:VEVENT
END:VCALENDAR