BEGIN:VCALENDAR
VERSION:2.0
PRODID:-//Åre Sweden - ECPv6.15.20//NONSGML v1.0//EN
CALSCALE:GREGORIAN
METHOD:PUBLISH
X-WR-CALNAME:Åre Sweden
X-ORIGINAL-URL:https://aresweden.com
X-WR-CALDESC:Händelser för Åre Sweden
REFRESH-INTERVAL;VALUE=DURATION:PT1H
X-Robots-Tag:noindex
X-PUBLISHED-TTL:PT1H
BEGIN:VTIMEZONE
TZID:Europe/Stockholm
BEGIN:DAYLIGHT
TZOFFSETFROM:+0100
TZOFFSETTO:+0200
TZNAME:CEST
DTSTART:20250330T010000
END:DAYLIGHT
BEGIN:STANDARD
TZOFFSETFROM:+0200
TZOFFSETTO:+0100
TZNAME:CET
DTSTART:20251026T010000
END:STANDARD
BEGIN:DAYLIGHT
TZOFFSETFROM:+0100
TZOFFSETTO:+0200
TZNAME:CEST
DTSTART:20260329T010000
END:DAYLIGHT
BEGIN:STANDARD
TZOFFSETFROM:+0200
TZOFFSETTO:+0100
TZNAME:CET
DTSTART:20261025T010000
END:STANDARD
BEGIN:DAYLIGHT
TZOFFSETFROM:+0100
TZOFFSETTO:+0200
TZNAME:CEST
DTSTART:20270328T010000
END:DAYLIGHT
BEGIN:STANDARD
TZOFFSETFROM:+0200
TZOFFSETTO:+0100
TZNAME:CET
DTSTART:20271031T010000
END:STANDARD
END:VTIMEZONE
BEGIN:VEVENT
DTSTART;TZID=Europe/Stockholm:20260503T140000
DTEND;TZID=Europe/Stockholm:20260503T140000
DTSTAMP:20260423T202014
CREATED:20260421T123809Z
LAST-MODIFIED:20260422T113234Z
UID:10021519-1777816800-1777816800@aresweden.com
SUMMARY:After School Padel mån–fre
DESCRIPTION:För barn 8–16 år \n\nMåndag–fredag kl. 14–17 fram till 12 juni\n25 kr/barn/timme\nRacketar & bollar ingår (hyrracketar och begagnade bollar (inte nya bollar) )\nChecka in & betala vid kassan på Åre Klätterhall*\n\n  \n*Endast om banor finns tillgängliga\, ingen förbokning. Priset gäller även upp till 2 föräldrar om de spelar med barnen. Gäller ej under helger\, skollov och helgdagar
URL:https://aresweden.com/kalender/after-school-padel-man-fre/2026-05-03/
LOCATION:Åre Sportcenter\, Sågvägen 17a\, Duved\, Åre\, 830 15\, Sverige
CATEGORIES:Aktiviteter,Träning & hälsa
ATTACH;FMTTYPE=image/jpeg:https://aresweden.com/app/uploads/2021/11/1920x1080-Sportcenter.jpg
ORGANIZER;CN="%C3%85re Sportcenter":MAILTO:info@aresportcenter.se
END:VEVENT
END:VCALENDAR