BEGIN:VCALENDAR
VERSION:2.0
PRODID:-//Åre Sweden - ECPv6.15.20//NONSGML v1.0//EN
CALSCALE:GREGORIAN
METHOD:PUBLISH
X-WR-CALNAME:Åre Sweden
X-ORIGINAL-URL:https://aresweden.com
X-WR-CALDESC:Händelser för Åre Sweden
REFRESH-INTERVAL;VALUE=DURATION:PT1H
X-Robots-Tag:noindex
X-PUBLISHED-TTL:PT1H
BEGIN:VTIMEZONE
TZID:Europe/Paris
BEGIN:DAYLIGHT
TZOFFSETFROM:+0100
TZOFFSETTO:+0200
TZNAME:CEST
DTSTART:20250330T010000
END:DAYLIGHT
BEGIN:STANDARD
TZOFFSETFROM:+0200
TZOFFSETTO:+0100
TZNAME:CET
DTSTART:20251026T010000
END:STANDARD
BEGIN:DAYLIGHT
TZOFFSETFROM:+0100
TZOFFSETTO:+0200
TZNAME:CEST
DTSTART:20260329T010000
END:DAYLIGHT
BEGIN:STANDARD
TZOFFSETFROM:+0200
TZOFFSETTO:+0100
TZNAME:CET
DTSTART:20261025T010000
END:STANDARD
BEGIN:DAYLIGHT
TZOFFSETFROM:+0100
TZOFFSETTO:+0200
TZNAME:CEST
DTSTART:20270328T010000
END:DAYLIGHT
BEGIN:STANDARD
TZOFFSETFROM:+0200
TZOFFSETTO:+0100
TZNAME:CET
DTSTART:20271031T010000
END:STANDARD
END:VTIMEZONE
BEGIN:VEVENT
DTSTART;TZID=Europe/Paris:20260430T090000
DTEND;TZID=Europe/Paris:20260503T235900
DTSTAMP:20260421T140658
CREATED:20251126T165636Z
LAST-MODIFIED:20260401T141356Z
UID:51962-1777539600-1777852740@aresweden.com
SUMMARY:Åre Sessions 2026
DESCRIPTION:Den 30 april-3 maj 2026 går den åttonde upplagan av Åre Sessions av stapeln. En festival där musik- och skidkultur får mötas under skidsäsongens sista dagar\, inramat av en av landets vackraste miljöer. \nFestivalen gör nedslag på ett flertal scener och spelställen runtom i Åre – från platser i själva skidbacken till den stora arenan i Holiday Club längst ner i byn.
URL:https://aresweden.com/kalender/are-sessions-2026/
LOCATION:Åre
CATEGORIES:Evenemang,Musik & nöje
ATTACH;FMTTYPE=image/jpeg:https://aresweden.com/app/uploads/2025/11/are-sessions-2026-are.jpg
END:VEVENT
END:VCALENDAR