BEGIN:VCALENDAR
VERSION:2.0
PRODID:-//Åre Sweden - ECPv6.15.20//NONSGML v1.0//EN
CALSCALE:GREGORIAN
METHOD:PUBLISH
X-WR-CALNAME:Åre Sweden
X-ORIGINAL-URL:https://aresweden.com
X-WR-CALDESC:Händelser för Åre Sweden
REFRESH-INTERVAL;VALUE=DURATION:PT1H
X-Robots-Tag:noindex
X-PUBLISHED-TTL:PT1H
BEGIN:VTIMEZONE
TZID:Europe/Stockholm
BEGIN:DAYLIGHT
TZOFFSETFROM:+0100
TZOFFSETTO:+0200
TZNAME:CEST
DTSTART:20250330T010000
END:DAYLIGHT
BEGIN:STANDARD
TZOFFSETFROM:+0200
TZOFFSETTO:+0100
TZNAME:CET
DTSTART:20251026T010000
END:STANDARD
BEGIN:DAYLIGHT
TZOFFSETFROM:+0100
TZOFFSETTO:+0200
TZNAME:CEST
DTSTART:20260329T010000
END:DAYLIGHT
BEGIN:STANDARD
TZOFFSETFROM:+0200
TZOFFSETTO:+0100
TZNAME:CET
DTSTART:20261025T010000
END:STANDARD
BEGIN:DAYLIGHT
TZOFFSETFROM:+0100
TZOFFSETTO:+0200
TZNAME:CEST
DTSTART:20270328T010000
END:DAYLIGHT
BEGIN:STANDARD
TZOFFSETFROM:+0200
TZOFFSETTO:+0100
TZNAME:CET
DTSTART:20271031T010000
END:STANDARD
END:VTIMEZONE
BEGIN:VEVENT
DTSTART;TZID=Europe/Stockholm:20260423T080000
DTEND;TZID=Europe/Stockholm:20260423T180000
DTSTAMP:20260420T130815
CREATED:20260409T135056Z
LAST-MODIFIED:20260409T135136Z
UID:10021287-1776931200-1776967200@aresweden.com
SUMMARY:Utförsäljning VARG på Drejerian
DESCRIPTION:VARG KOMMER TILL ÅRE 23–26 APRIL \nPlats: Drejerian Åre\, Stationsvägen 16\, mitt i Åre by. \nTider: \n– Torsdag 23/4: 08–18\n– Fredag 24/4: 08–18\n– Lördag 25/4: 10–18\n– Söndag 26/4: 10–16 \nPlats: Drejerian Åre\, Stationsvägen 16\, mitt i Åre by. \nSample & archive sale – upp till 80% rabatt! Här hittar du varma dunjackor\, mysiga ulltröjor\, underställ\, shorts\, kjolar och mycket mer för både dam och herr. Perfekt för vårens äventyr!
URL:https://aresweden.com/kalender/utforsaljning-varg-pa-drejerian/2026-04-23/
CATEGORIES:Aktiviteter
ATTACH;FMTTYPE=image/jpeg:https://aresweden.com/app/uploads/2026/04/varg-e1775742633187.jpg
END:VEVENT
END:VCALENDAR