BEGIN:VCALENDAR
VERSION:2.0
PRODID:-//Åre Sweden - ECPv6.15.20//NONSGML v1.0//EN
CALSCALE:GREGORIAN
METHOD:PUBLISH
X-WR-CALNAME:Åre Sweden
X-ORIGINAL-URL:https://aresweden.com
X-WR-CALDESC:Händelser för Åre Sweden
REFRESH-INTERVAL;VALUE=DURATION:PT1H
X-Robots-Tag:noindex
X-PUBLISHED-TTL:PT1H
BEGIN:VTIMEZONE
TZID:Europe/Stockholm
BEGIN:DAYLIGHT
TZOFFSETFROM:+0100
TZOFFSETTO:+0200
TZNAME:CEST
DTSTART:20250330T010000
END:DAYLIGHT
BEGIN:STANDARD
TZOFFSETFROM:+0200
TZOFFSETTO:+0100
TZNAME:CET
DTSTART:20251026T010000
END:STANDARD
BEGIN:DAYLIGHT
TZOFFSETFROM:+0100
TZOFFSETTO:+0200
TZNAME:CEST
DTSTART:20260329T010000
END:DAYLIGHT
BEGIN:STANDARD
TZOFFSETFROM:+0200
TZOFFSETTO:+0100
TZNAME:CET
DTSTART:20261025T010000
END:STANDARD
BEGIN:DAYLIGHT
TZOFFSETFROM:+0100
TZOFFSETTO:+0200
TZNAME:CEST
DTSTART:20270328T010000
END:DAYLIGHT
BEGIN:STANDARD
TZOFFSETFROM:+0200
TZOFFSETTO:+0100
TZNAME:CET
DTSTART:20271031T010000
END:STANDARD
END:VTIMEZONE
BEGIN:VEVENT
DTSTART;TZID=Europe/Stockholm:20260425T080000
DTEND;TZID=Europe/Stockholm:20260425T100000
DTSTAMP:20260421T045654
CREATED:20260325T115435Z
LAST-MODIFIED:20260409T140306Z
UID:10021295-1777104000-1777111200@aresweden.com
SUMMARY:Yoga och frukost på Åre Granen
DESCRIPTION:Dags för ett nytt tillfälle för Frukost & Yoga på Hotell Åre Granen\, mitt i Åre by🌲 \nYoga 8:00-9:00\nFrukost 9:00-10:00 \nEmelie guidar dig genom ett mjukt morgonflöde i 60min för att väcka kroppen och skanna av dess dagsform så att du kan vara snäll mot dig själv resten av dagen 💛 Yogan följs av en fantastisk frukostbuffé i Granens mysiga lokaler som du äter i din egen takt 🫶🏼
URL:https://aresweden.com/kalender/yoga-och-frukost-pa-are-granen/2026-04-25/
LOCATION:Hotell Granen\, Tottvägen 127\, Åre\, Jämtland\, 83751\, Sverige
CATEGORIES:Aktiviteter,Träning & hälsa
ATTACH;FMTTYPE=image/jpeg:https://aresweden.com/app/uploads/2026/03/yin-yoga-granen-e1773066675141.jpg
ORGANIZER;CN="Hotell Granen":MAILTO:info@aregranen.se
END:VEVENT
END:VCALENDAR